BEGIN:VCALENDAR
VERSION:2.0
PRODID:-//wp-events-plugin.com//7.2.2.1//EN
TZID:Europe/Rome
X-WR-TIMEZONE:Europe/Rome
BEGIN:VEVENT
UID:82@liveleague.it
DTSTART;TZID=Europe/Rome:20170226T100000
DTEND;TZID=Europe/Rome:20170226T123000
DTSTAMP:20181016T212132Z
URL:https://www.liveleague.it/events/fifa-tournament-2017-torneo-1vs1-fifa
 17-ps4-fascia-3-2/
SUMMARY:FIFA Tournament 2017 - Torneo 1vs1 - FIFA17 (PS4) - Fascia 3
DESCRIPTION:\n\n#SeasonThree - FIFA Tournament 2017 - Torneo 1vs1 - FIFA17 
 (PS4) - 26 Febbraio 2017 – Milano\n\n-CITTA’: Milano\n-LUOGO: Centro C
 ommerciale Bonola\n-INDIRIZZO: Via Quarenghi\, 23\n-DATA: Domenica 26 Febb
 raio 2017\n-ORARIO TORNEO:\nTerza fascia dalle ore 10.00 alle ore 12.30\nF
 ASE FINALE\nInizio ore 16.00\n-ACCETTAZIONE TORNEO:\nE' consigliato l'arri
 vo anticipato di almeno 30 minuti.\n-ISCRIZIONE A NUMERO CHIUSO: Max 160 S
 quadre\nNuova formula SELECT giorno\, orario\, girone… lo decidi tu. (pr
 enota il tuo posto)\n-POSTAZIONI: Monitor/Tv Samsung T24C300\n-CONSOLE: So
 ny PS4\n-ORGANIZZATORE: Live League in collaborazione con usvs eSports (As
 sociazione Sportiva Dilettantistica).\n-QUOTA TESSERAMENTO (una tantum): G
 RATUITO\n-CONTRIBUTO PARTECIPATIVO: GRATUITO\nI primi 32 players qualifica
 ti alla fase Finale riceveranno la tessera\ndella nostra A.S.D. e potranno
  promuovere lo Sport Elettronico in Italia\, partecipando ai nostri eventi
 .\nI CONTROLLER verrano forniti dall’organizzazione (ma potrai usare il 
 pad personale)\n\n-PREMIO DI TAPPA:\n1° Buono acquisto + Medaglia di part
 ecipazione\n2° Buono Acquisto + Medaglia di partecipazione\n3° Buono Acq
 uisto + Medaglia di partecipazione\n\nSPENDIBILE PRESSO il Centro Commerci
 ale\n\nSi ricorda che è possibile effettuare una sola iscrizione compless
 ivamente per tutte le fasce (es: gli iscritti alla fascia 1 non potranno e
 ffettuare la registrazione ai tornei di fascia 2\, 3 o 4).
CATEGORIES:2016-2017
LOCATION:Centro Commerciale Bonola\, Via Quarenghi\, 23\, Milano\, Mi\, Ita
 lia
GEO:45.4965638;9.113345999999979
X-APPLE-STRUCTURED-LOCATION;VALUE=URI;X-ADDRESS=Via Quarenghi\, 23\, Milano
 \, Mi\, Italia;X-APPLE-RADIUS=100;X-TITLE=Centro Commerciale Bonola:geo:45
 .4965638,9.113345999999979
END:VEVENT
BEGIN:VTIMEZONE
TZID:Europe/Rome
X-LIC-LOCATION:Europe/Rome
BEGIN:STANDARD
DTSTART:20161030T020000
TZOFFSETFROM:+0200
TZOFFSETTO:+0100
TZNAME:CET
END:STANDARD
END:VTIMEZONE
END:VCALENDAR