BEGIN:VCALENDAR
VERSION:2.0
PRODID:-//wp-events-plugin.com//7.2.2.1//EN
TZID:Europe/Rome
X-WR-TIMEZONE:Europe/Rome
BEGIN:VEVENT
UID:96@liveleague.it
DTSTART;TZID=Europe/Rome:20161113T130000
DTEND;TZID=Europe/Rome:20161113T160000
DTSTAMP:20181016T213330Z
URL:https://www.liveleague.it/events/fifa-tournament-2017-torneo-1vs1-ps4-
 fascia-4/
SUMMARY:FIFA Tournament 2017 - Torneo 1vs1 (PS4) - Fascia 4
DESCRIPTION:\n\n#SeasonThree - FIFA Tournament 2017 - Torneo 1vs1 - FIFA17 
 (PS4) - 13 Novembre 2016 – Palazzolo Sull'Oglio BS\n\n-CITTA’: Palazzo
 lo S/O (Brescia)\n-LUOGO: Centro Commerciale Europa\n-INDIRIZZO: Viale Eur
 opa 6\n-DATA: Domenica 13 Novembre 2016.\n-ORARIO TORNEO DOMENICA:\nQuarta
  fascia dalle ore 13.00 alle ore 16.00\nFASE FINALE\nInizio ore 17.00\n-AC
 CETTAZIONE TORNEO:\nE' consigliato l'arrivo anticipato di almeno 30 minuti
 .\n-ISCRIZIONE A NUMERO CHIUSO: Max 160 Squadre\nNuova formula SELECT gior
 no\, orario\, girone… lo decidi tu. (prenota il tuo posto)\n-POSTAZIONI:
  Monitor/Tv Samsung T24C300\n-CONSOLE: Sony PS4\n-ORGANIZZATORE: Live Leag
 ue in collaborazione con usvs eSports (Associazione Sportiva Dilettantisti
 ca).\n-QUOTA TESSERAMENTO (una tantum):\nGRATUITO per i primi 32 players q
 ualificati alla fase Finale.\nSe ti piacerà\, potrai richiedere l'iscrizi
 one alla nostra A.S.D. e promuovere lo Sport Elettronico in Italia.\n-CONT
 RIBUTO PARTECIPATIVO: GRATUITO\nI CONTROLLER verrano forniti dall’organi
 zzazione (ma potrai usare il pad personale)\n\n\n-PREMI:\n 1° premio: Son
 y Playstation 4 + Medaglia di partecipazione \n 2° premio: Dualshock 4 + 
 Medaglia di partecipazione\n 3° premio: Gioco PS4 + Medaglia di partecipa
 zione\n 4° premio: Pokémon Go Plus\n\nSi ricorda che è possibile effett
 uare una sola iscrizione complessivamente per tutte le fasce (es: gli iscr
 itti alla fascia 1 non potranno effettuare la registrazione ai tornei di f
 ascia 2\, 3 o 4).
CATEGORIES:2016-2017
LOCATION:Centro Commerciale Europa\, Viale Europa 6\, Palazzolo sull'oglio\
 , brescia\, Italia
GEO:45.5898119;9.894062399999939
X-APPLE-STRUCTURED-LOCATION;VALUE=URI;X-ADDRESS=Viale Europa 6\, Palazzolo 
 sull'oglio\, brescia\, Italia;X-APPLE-RADIUS=100;X-TITLE=Centro Commercial
 e Europa:geo:45.5898119,9.894062399999939
END:VEVENT
BEGIN:VTIMEZONE
TZID:Europe/Rome
X-LIC-LOCATION:Europe/Rome
BEGIN:STANDARD
DTSTART:20161030T020000
TZOFFSETFROM:+0200
TZOFFSETTO:+0100
TZNAME:CET
END:STANDARD
END:VTIMEZONE
END:VCALENDAR