BEGIN:VCALENDAR
VERSION:2.0
PRODID:-//wp-events-plugin.com//7.2.2.1//EN
TZID:Europe/Rome
X-WR-TIMEZONE:Europe/Rome
BEGIN:VEVENT
UID:32@liveleague.it
DTSTART;TZID=Europe/Rome:20180422T140000
DTEND;TZID=Europe/Rome:20180422T200000
DTSTAMP:20181016T140402Z
URL:https://www.liveleague.it/events/fifa-tournament-2018-torneo-1vs1-fifa
 18-ps4-8/
SUMMARY:FIFA Tournament 2018 - Torneo 1vs1 - FIFA18 (PS4)
DESCRIPTION:\n\n#SeasonFour - FIFA Tournament 2018 - Torneo 1vs1 - FIFA18 (
 PS4) - 22 Aprile 2018 – Vercelli\n\n-CITTA’: Vercelli\n-LUOGO: Pantheo
 nVercelli\n-INDIRIZZO: Corso Matteotti 14\n-DATA: Domenica 22 Aprile 2018\
 n-ACCETTAZIONE TORNEO: dalle ore 11\,30 alle ore 13\,00.\n-INIZIO TORNEO: 
 ore 14\,00\n-ORGANIZZATORE: Live League in collaborazione con usvs eSports
  (Associazione Sportiva Dilettantistica)\nISCRIZIONE A NUMERO CHIUSO: Max 
 80 Squadre (prenota il tuo posto)\nPOSTAZIONI: Monitor/Tv Samsung T24C300\
 nCONSOLE: Sony PS4\nQUOTA ISCRIZIONE COMPRENSIVA DI PIZZA A SCELTA: 15 €
 \nDovrai portare il tuo CONTROLLER\n\nPREMIO DI TAPPA:\n1° Console Sony P
 S4\n2° Gioco PS4
CATEGORIES:2017-2018
LOCATION:PantheonVercelli\, Corso Matteotti\, 14\, Vercelli\, Vercelli\, 13
 100\, Italia
GEO:45.3250022;8.433571700000016
X-APPLE-STRUCTURED-LOCATION;VALUE=URI;X-ADDRESS=Corso Matteotti\, 14\, Verc
 elli\, Vercelli\, 13100\, Italia;X-APPLE-RADIUS=100;X-TITLE=PantheonVercel
 li:geo:45.3250022,8.433571700000016
END:VEVENT
BEGIN:VTIMEZONE
TZID:Europe/Rome
X-LIC-LOCATION:Europe/Rome
BEGIN:DAYLIGHT
DTSTART:20180325T030000
TZOFFSETFROM:+0100
TZOFFSETTO:+0200
TZNAME:CEST
END:DAYLIGHT
END:VTIMEZONE
END:VCALENDAR