BEGIN:VCALENDAR
VERSION:2.0
PRODID:-//wp-events-plugin.com//7.2.2.1//EN
TZID:Europe/Rome
X-WR-TIMEZONE:Europe/Rome
BEGIN:VEVENT
UID:186@liveleague.it
DTSTART;TZID=Europe/Rome:20181117T173000
DTEND;TZID=Europe/Rome:20181117T203000
DTSTAMP:20181126T212644Z
URL:https://www.liveleague.it/events/fifa-tournament-2019-torneo-1vs1-di-f
 ifa-19-ps4-fascia-2/
SUMMARY:Fifa Tournament 2019 – TORNEO 1vs1 di FIFA 19 (PS4) - Fascia 2
DESCRIPTION:\n\n#SeasonFive - Fifa Tournament 2019 – TORNEO 1vs1 di FIFA 
 19 (PS4) – 17 NOVEMBRE 2018 – PALAZZOLO S/O (BS)\n——————
 ————————————————————————
 ———————\n-CITTA’: Palazzolo S/O (Brescia)\n-LUOGO: Centro 
 Commerciale Europa\n-INDIRIZZO: Viale Europa 6\n-DATA: Sabato 17\, Domenic
 a 18 Novembre\n-ORARIO TORNEO SABATO:\nSeconda fascia dalle ore 17.30 alle
  ore 20\,30\nFASE FINALE\nInizio ore 15.00\n-ACCETTAZIONE TORNEO:\nE' cons
 igliato l'arrivo anticipato di almeno 30 minuti.\n-ISCRIZIONE A NUMERO CHI
 USO: Max 120 Squadre\nNuova formula SELECT giorno\, orario\, girone… lo 
 decidi tu. (prenota il tuo posto)\n-POSTAZIONI: Monitor ZOWIE e-Sports RL2
 755T\n-CONSOLE: Sony PS4\n-ORGANIZZATORE: Live League in collaborazione co
 n usvs eSports (Associazione Sportiva Dilettantistica).\n- ISCRIZIONE EVEN
 TO: GRATUITO\nI primi 16 players qualificati alla fase Finale riceveranno 
 la tessera\ndella nostra A.S.D. e potranno promuovere lo Sport Elettronico
  in Italia\, partecipando ai nostri eventi.\nI CONTROLLER verrano forniti 
 dall’organizzazione (ma potrai usare il pad personale)\nE' consentito l'
 uso dei controller Nacon Revolution e Razer Raiju con macro disattivate.\n
 \n-PREMI:\n1° premio: Sony Playstation 4\n2° premio: Dualshock 4\n3° pr
 emio: Gioco PS4\n4° premio: Playstation Plus 3 mesi
CATEGORIES:2018-2019
LOCATION:Centro Commerciale Europa\, Viale Europa 6\, Palazzolo sull'oglio\
 , brescia\, Italia
GEO:45.5898119;9.894062399999939
X-APPLE-STRUCTURED-LOCATION;VALUE=URI;X-ADDRESS=Viale Europa 6\, Palazzolo 
 sull'oglio\, brescia\, Italia;X-APPLE-RADIUS=100;X-TITLE=Centro Commercial
 e Europa:geo:45.5898119,9.894062399999939
END:VEVENT
BEGIN:VTIMEZONE
TZID:Europe/Rome
X-LIC-LOCATION:Europe/Rome
BEGIN:STANDARD
DTSTART:20181028T020000
TZOFFSETFROM:+0200
TZOFFSETTO:+0100
TZNAME:CET
END:STANDARD
END:VTIMEZONE
END:VCALENDAR