BEGIN:VCALENDAR
VERSION:2.0
PRODID:-//wp-events-plugin.com//7.2.2.1//EN
TZID:Europe/Rome
X-WR-TIMEZONE:Europe/Rome
BEGIN:VEVENT
UID:244@liveleague.it
DTSTART;TZID=Europe/Rome:20191116T110000
DTEND;TZID=Europe/Rome:20191116T130000
DTSTAMP:20191210T204235Z
URL:https://www.liveleague.it/events/fifa-tournament-2020-torneo-1vs1-di-f
 ifa20-ps4-fascia-1-2/
SUMMARY:Fifa Tournament 2020 – TORNEO 1vs1 di FIFA20 (PS4) - Fascia 1
DESCRIPTION:\n\n#SeasonSix - Fifa Tournament 2020 – TORNEO 1vs1 di FIFA20
  (PS4) – 16 NOVEMBRE 2019 – BIELLA\n----------------------------------
 --------------------------------------------------------------------------
 --------------------------------------------------------------------------
 \n-CITTA’: Biella\n-LUOGO: Centro commerciale Gli Orsi\n-INDIRIZZO: Vial
 e Domenico Modugno 3b\n-DATA: Sabato 16 Novembre\n-ORARIO TORNEO SABATO:\n
 Prima fascia dalle ore 11.00 alle ore 13.00\nFASE FINALE\nInizio ore 15.00
 \n------------------------------------------------------------------------
 --------------------------------------------------------------------------
 ------------------------------------\n-ACCETTAZIONE TORNEO:\nE' consigliat
 o l'arrivo anticipato di almeno 30 minuti.\n-ISCRIZIONE A NUMERO CHIUSO: M
 ax 136 Squadre\nNuova formula SELECT giorno\, orario\, girone… lo decidi
  tu.\nPrenota il tuo posto tramite il sito www.liveleague.it oppure dirett
 amente al centro commerciale.\n-POSTAZIONI: Monitor ZOWIE e-Sports RL2755T
 \n-CONSOLE: Sony PS4 PRO\n-ORGANIZZATORE: LiveLeague in collaborazione con
  usvs eSports (Associazione Sportiva Dilettantistica).\n- ISCRIZIONE EVENT
 O: GRATUITO\nI primi 16 players qualificati alla fase Finale riceveranno l
 a tessera\ndella nostra A.S.D. e potranno promuovere lo Sport Elettronico 
 in Italia\, partecipando ai nostri eventi.\nI CONTROLLER verrano forniti d
 all’organizzazione (nacon wired compact) ma potrai usare il pad personal
 e.\nE' consentito l'uso dei controller Nacon Revolution e Razer Raiju con 
 macro disattivate.\n------------------------------------------------------
 --------------------------------------------------------------------------
 ------------------------------------------------------\n-PREMIO DI TAPPA:\
 n1° Iphone 11 + qualificazione alla Finale Live League\n2° Console Plays
 tation 4\n3° Console Nintendo Switch Lite\n——————————
 ————————————————————————
 —————————————–--------------------------------
 -----\n1° FASE (GIRONI):\n32 gironi da 4/5 squadre\nGirone di solo andata
  con punteggio classico: 3V – 1P- 0S\n2° FASE (ELIMINATORIA):\nSquadre 
 qualificate: 64\nScontri di sola andata\, suppl. + rigori.\nTrentaduesimi\
 ,Sedicesimi\, Ottavi\, Quarti\, Semifinale\, Finale\n\nSi ricorda che è p
 ossibile effettuare una sola iscrizione complessivamente per tutte le fasc
 e (es: gli iscritti alla fascia 1 non potranno effettuare la registrazione
  ai tornei di fascia 2\, 3 o 4).
CATEGORIES:2019-2020
LOCATION:Centro commerciale Gli Orsi\, Viale Domenico Modugno 3b\, Biella\,
  13900\, Piemonte\, Italia
GEO:45.547602;8.078297499999962
X-APPLE-STRUCTURED-LOCATION;VALUE=URI;X-ADDRESS=Viale Domenico Modugno 3b\,
  Biella\, 13900\, Piemonte\, Italia;X-APPLE-RADIUS=100;X-TITLE=Centro comm
 erciale Gli Orsi:geo:45.547602,8.078297499999962
END:VEVENT
BEGIN:VTIMEZONE
TZID:Europe/Rome
X-LIC-LOCATION:Europe/Rome
BEGIN:STANDARD
DTSTART:20191027T020000
TZOFFSETFROM:+0200
TZOFFSETTO:+0100
TZNAME:CET
END:STANDARD
END:VTIMEZONE
END:VCALENDAR