BEGIN:VCALENDAR
VERSION:2.0
PRODID:-//wp-events-plugin.com//7.2.2.1//EN
TZID:Europe/Rome
X-WR-TIMEZONE:Europe/Rome
BEGIN:VEVENT
UID:260@liveleague.it
DTSTART;TZID=Europe/Rome:20200125T170000
DTEND;TZID=Europe/Rome:20200125T190000
DTSTAMP:20200924T162128Z
URL:https://www.liveleague.it/events/fifa-tournament-2020-torneo-1vs1-di-f
 ifa20-ps4-fascia-3-3/
SUMMARY:Fifa Tournament 2020 – TORNEO 1vs1 di FIFA20 (PS4) - Fascia 3
DESCRIPTION:\n\n#SeasonSix - Fifa Tournament 2020 – TORNEO 1vs1 di FIFA20
  (PS4) – 25 GENNAIO 2020 – BRESCIA\n\n-CITTA’: BRESCIA\n-LUOGO: Cent
 ro Commerciale Freccia Rossa\n-INDIRIZZO: Viale Italia 31\n-DATA: Sabato 2
 5 Gennaio.\n-ORARIO TORNEO SABATO:\nTerza fascia dalle ore 17\,00 alle ore
  19\,00\n\nFASE FINALE\nInizio ore 15.00\n\n-ACCETTAZIONE TORNEO:\nE' cons
 igliato l'arrivo anticipato di almeno 30 minuti.\n-ISCRIZIONE A NUMERO CHI
 USO: Max 136 Squadre\nNuova formula SELECT giorno\, orario\, girone… lo 
 decidi tu.\nPrenota il tuo posto tramite il sito www.liveleague.it oppure 
 direttamente al centro commerciale.\n-POSTAZIONI: Monitor ZOWIE e-Sports R
 L2755T\n-CONSOLE: Sony PS4 PRO\n-ORGANIZZATORE: LiveLeague in collaborazio
 ne con usvs eSports (Associazione Sportiva Dilettantistica).\n- ISCRIZIONE
  EVENTO: GRATUITO\nI primi 16 players qualificati alla fase Finale ricever
 anno la tessera\ndella nostra A.S.D. e potranno promuovere lo Sport Elettr
 onico in Italia\, partecipando ai nostri eventi.\nI CONTROLLER verrano for
 niti dall’organizzazione (nacon wired compact) ma potrai usare il pad pe
 rsonale.\nE' consentito l'uso dei controller Nacon Revolution e Razer Raij
 u con macro disattivate.\n\n-PREMIO DI TAPPA:\n1° Apple iPad 128 GB + qua
 lificazione alla Finale Live League\n2° Nintendo Switch Lite\n3° Psn Car
 d del valore di 100€\n\n1° FASE (GIRONI):\n32 gironi da 4/5 squadre\nGi
 rone di solo andata con punteggio classico: 3V – 1P- 0S\n2° FASE (ELIMI
 NATORIA):\nSquadre qualificate: 64\nScontri di sola andata\, suppl. + rigo
 ri.\nTrentaduesimi\,Sedicesimi\, Ottavi\, Quarti\, Semifinale\, Finale\n\n
 Si ricorda che è possibile effettuare una sola iscrizione complessivament
 e per tutte le fasce (es: gli iscritti alla fascia 1 non potranno effettua
 re la registrazione ai tornei di fascia 2\, 3 o 4).\n\n&nbsp\;
CATEGORIES:2019-2020
LOCATION:Centro Commerciale Freccia Rossa\, Viale Italia\, 31\, Brescia\, B
 S\, Lombardia\, Italia
GEO:45.5355803;10.208669600000007
X-APPLE-STRUCTURED-LOCATION;VALUE=URI;X-ADDRESS=Viale Italia\, 31\, Brescia
 \, BS\, Lombardia\, Italia;X-APPLE-RADIUS=100;X-TITLE=Centro Commerciale F
 reccia Rossa:geo:45.5355803,10.208669600000007
END:VEVENT
BEGIN:VTIMEZONE
TZID:Europe/Rome
X-LIC-LOCATION:Europe/Rome
BEGIN:STANDARD
DTSTART:20191027T020000
TZOFFSETFROM:+0200
TZOFFSETTO:+0100
TZNAME:CET
END:STANDARD
END:VTIMEZONE
END:VCALENDAR