BEGIN:VCALENDAR
VERSION:2.0
PRODID:-//wp-events-plugin.com//7.2.2.1//EN
TZID:Europe/Rome
X-WR-TIMEZONE:Europe/Rome
BEGIN:VEVENT
UID:5@liveleague.it
DTSTART;TZID=Europe/Rome:20141019T160000
DTEND;TZID=Europe/Rome:20141019T220000
DTSTAMP:20181018T180951Z
URL:https://www.liveleague.it/events/super-smash-bros-tournament/
SUMMARY:SUPER SMASH BROS TOURNAMENT
DESCRIPTION:\n\nSUPER SMASH BROS TOURNAMENT (LIVELEAGUE) – 19 OTTOBRE 201
 4 - CONCOREZZO (MB)\nRADUNO NAZIONALE SUPER SMASH BROS\n------------------
 --------\n----------------------------------------------------------------
 --------------------------------------------------------------------------
 ----------------------------------------------------\nCITTA’: Concorezzo
  (MB)\nLOCATION: ACQUAWORLD\nINDIRIZZO: Via Giorgio La Pira 16\nDATA: Dome
 nica 19 Ottobre 2014\nACCETTAZIONE TORNEO 1vs1: dalle ore 14\,00 alle ore 
 15\,30.\nINIZIO TORNEO 1VS1: ore 16\,00\nDurante la fase finale del singol
 o si potrà convalidare l'iscrizione del 2vs2.\nISCRIZIONE A NUMERO CHIUSO
 : Max 256 players (prenota il tuo posto)\nQUOTA DI PARTECIPAZIONE: GRATUIT
 A\nCONSOLE: Nintendo 2DS – Nintendo 3DS – Nintendo 3DSXL\nORGANIZZATOR
 E: LiveLeague\nCOSTO INGRESSO PARCO ACQUAWORLD: GRATUITO per i primi 15 is
 critti e a tariffa scontata del 50% per i successivi e gli accompagnatori.
 \nVisita il Sito www.acquaworld.it\n\nRicordati che per partecipare\, dovr
 ai presentarti con la tua console (Nintendo 3DS/3DSXL/2DS) completamente c
 arica ed il gioco originale di Super Smash Brosh in versione Italiana.\n\n
 Ti aspettiamo per sfidare i Nostri Campioni in una zona dedicata del parco
 .\n-----------------------------------------------------------------------
 --------------------------------------------------------------------------
 -----------------------------------------------------------------------\nR
 EGOLAMENTO:\n\nAll'inizio di ogni incontro si può scegliere liberamente i
 l personaggio\, una volta terminato il primo incontro il personaggio verr
 à scelto prima dal vincitore ed in seguito dal perdente.\nNel caso in cui
  uno dei due giocatori metta accidentalmente in pausa il gioco\, lo sfidan
 te può chiedere che l'avversario si tolga una vita\, oppure la ripetizion
 e del match\, oppure decidere di far proseguire la partita senza conseguen
 ze.\nGli abusi saranno puniti con penalità che vanno dalla partita persa 
 alla squalifica del giocatore\;\nQualsiasi comportamento antisportivo qual
 i linguaggio forte od insulti non saranno tollerati e il giocatore potrà 
 essere punito con la sconfitta del match o la squalifica dal torneo.\nI pa
 rtecipanti verranno accoppiati secondo le impostazioni definite dal softwa
 re (ad ogni turno) e si scontreranno al meglio dei 3 match (2 per vincere)
 .\nIn casi particolari\, l’evento potrebbe essere svolto con il sistema 
 ad eliminazione diretta.\nE' severamente vietato perdere tempo durante un 
 incontro salvo casi eccezionali (emergenze\, bisogni naturali ecc)\n\nSETT
 AGGI:\n\n-Modalità di gioco 1vs1 e 2vs2\nMODALITA': Mischia\nREGOLE: A vi
 ta\nVITE: 3\nPERSONALIZZAZIONI: No\nDANNI INIZIALI: No\nPOTENZA DI LANCIO:
  X1.0\nSCENARIO: CASUALE OMEGA\nSTRUMENTI: NESSUNO - NO\nFUOCO AMICO: SI\n
 \n*sarà possibile accordarsi su di uno dei seguenti stage non in versione
  Omega se entrambi i giocatori si troveranno d'accordo:\n\n- Arena Ferox\n
 - Isola Yoshi\n- Le Rovine (battlefield)\n- Pista Arcobaleno\n- Torre Pris
 ma\n- Brinstar\n----------------------------------------------------------
 --------------------------------------------------------------------------
 --------------------------------------------------------------------------
 ----------\nPREISCRIZIONE:\n\n-Per riservare il vostro posto al torneo 1vs
 1/2vs2 ed avere agevolazioni tariffarie\, dovete mandare una mail con ques
 ti dati a info@liveleague.it ed iscrivervi al sito www.liveleague.it\n\nPL
 AYER\nNome:\nCognome:\nEtà:\nTel:\nMail:\nCitta’:\n\nACCOMPAGNATORI\nNo
 me:\nCognome:\n\nRicevuta la mail\, vi sarà spedito il modulo di iscrizio
 ne che dovrà essere compilato\, firmato e consegnato il giorno del torneo
  (nel caso di minorenni da un genitore o da chi ne fa’ le veci).\n------
 --------------------------------------------------------------------------
 --------------------------------------------------------------------------
 --------------------------------------------------------------\nL'organizz
 atore potrà aggiungere\, modificare e completare il regolamento\, prima c
 he l’evento abbia inizio.\nNon tolleriamo comportamenti illeciti\, viole
 nti\, poco cortesi e irrispettosi nei confronti dei partecipanti\, della s
 truttura e dell’organizzazione.\nSUPER SMASH BROS TOURNAMENT (LIVELEAGUE
 ) è un evento sportivo videoludico\, potrai conoscere nuove persone\, sca
 mbiare giocatori e sfidare nuovi AMICI.\n\nINFO:\nwww.Liveleague.it\nDanie
 le 3490539686 (WhatsApp)\nPagina Facebook: Live League\nTwitter: LiveLeagu
 eIT\nYouTube: LiveLeague Italia\ninfo@liveleague.it
CATEGORIES:2014-2015
END:VEVENT
BEGIN:VTIMEZONE
TZID:Europe/Rome
X-LIC-LOCATION:Europe/Rome
BEGIN:DAYLIGHT
DTSTART:20140330T030000
TZOFFSETFROM:+0100
TZOFFSETTO:+0200
TZNAME:CEST
END:DAYLIGHT
END:VTIMEZONE
END:VCALENDAR